BEGIN:VCALENDAR
VERSION:2.0
PRODID:icalendar-ruby
CALSCALE:GREGORIAN
METHOD:PUBLISH
BEGIN:VEVENT
DTSTAMP:20260420T161812Z
UID:688-5412057@balmoralchapel.ca
DTSTART:20260426T010000Z
DTEND:20260426T040000Z
CLASS:PUBLIC
CREATED:20260416T203440
DESCRIPTION:Want to connect with other Christian young adults in Red Deer?
  \nYou are warmly invited to a monthly multi-church Young Adult singing/f
 ellowship event called "SingPlus" organized and hosted by our sister churc
 h\, Waskasoo Bible Fellowship.  Evenings will begin with singing together
 \, followed by fellowship\, food and even board games for anyone so inclin
 ed.  It will be a casual event and open to all.  Note... the location of
  the event does change from month-to-month\, so pay attention to the poste
 d location each month! \nJoin us for SingPlus on Saturday\, April 25th at
  7pm at Waskasoo Bible Fellowship\, 3628 - 57th Avenue.  Spread the word 
 &amp\; come join us for an exciting time of worship\, fun &amp\; making ne
 w friends! \nFor more info\, contact dannytomalty@gmail.com or 403-392-47
 49 
LAST-MODIFIED:20260416T203440
LOCATION:Waskasoo Bible Fellowship  3628 57th Avenue
SUMMARY:Young Adults SingPlus
URL;VALUE=URI:https://www.balmoralchapel.ca/events/young-adults-singplus--6
 88/2026-04-25
ATTACH;FILENAME=Sing Plus Image.jpg;FMTTYPE=image/jpeg:https://dq5pwpg1q8ru
 0.cloudfront.net/2026/04/17/02/34/40/5c80adf1-5382-45c1-b22f-de9253225ff2/
 Sing%20Plus%20Image.jpg
END:VEVENT
END:VCALENDAR
