BEGIN:VCALENDAR
VERSION:2.0
PRODID:icalendar-ruby
CALSCALE:GREGORIAN
METHOD:PUBLISH
BEGIN:VEVENT
DTSTAMP:20260420T141944Z
UID:665-5263203@balmoralchapel.ca
DTSTART:20260425T010000Z
DTEND:20260425T033000Z
CLASS:PUBLIC
CREATED:20260408T134613
DESCRIPTION:Ready for a really great time?   Tonight is EARLY CHURCH NIGH
 T!   ...interesting and fun... don't miss it!  \nOur Balmoral Youth ar
 e invited to meet together with the Waskasoo Youth Group every Friday from
  7-9:30pm at the West Park Presbyterian Church\, 3628 - 57 Avenue for a fu
 n-filled evening of activities. Each week they feature a different theme f
 or their activities\, along with a relevant devotional... and of course\, 
 snacks!  And yes\, tons of fun!  Sound intriguing?  Come check it out!
  \nEveryone from Gr.6-12 is welcome to come and join in!  Come alone\, o
 r bring a friend... you will be warmly welcomed! \nIf you have any questi
 ons\, please feel free to contact Danny at 403-392-4749 or dannytomalty@gm
 ail.com
LAST-MODIFIED:20260408T134613
LOCATION:West Park Presbyterian Church\, 3629 - 57 Avenue
SUMMARY:Balmoral Youth
URL;VALUE=URI:https://www.balmoralchapel.ca/events/balmoral-youth--665/2026
 -04-24
ATTACH;FILENAME=Youth Group 12.jpg;FMTTYPE=image/jpeg:https://dq5pwpg1q8ru0
 .cloudfront.net/2026/04/02/20/30/11/e8f68215-3100-4d1e-a065-51a7d815f3aa/Y
 outh%20Group%2012.jpg
END:VEVENT
END:VCALENDAR
